BEGIN:VCALENDAR
VERSION:2.0
PRODID:-//SoMa Harrisburg - ECPv6.15.17.1//NONSGML v1.0//EN
CALSCALE:GREGORIAN
METHOD:PUBLISH
X-ORIGINAL-URL:https://www.somaharrisburg.com
X-WR-CALDESC:Events for SoMa Harrisburg
REFRESH-INTERVAL;VALUE=DURATION:PT1H
X-Robots-Tag:noindex
X-PUBLISHED-TTL:PT1H
BEGIN:VTIMEZONE
TZID:America/New_York
BEGIN:DAYLIGHT
TZOFFSETFROM:-0500
TZOFFSETTO:-0400
TZNAME:EDT
DTSTART:20240310T070000
END:DAYLIGHT
BEGIN:STANDARD
TZOFFSETFROM:-0400
TZOFFSETTO:-0500
TZNAME:EST
DTSTART:20241103T060000
END:STANDARD
BEGIN:DAYLIGHT
TZOFFSETFROM:-0500
TZOFFSETTO:-0400
TZNAME:EDT
DTSTART:20250309T070000
END:DAYLIGHT
BEGIN:STANDARD
TZOFFSETFROM:-0400
TZOFFSETTO:-0500
TZNAME:EST
DTSTART:20251102T060000
END:STANDARD
BEGIN:DAYLIGHT
TZOFFSETFROM:-0500
TZOFFSETTO:-0400
TZNAME:EDT
DTSTART:20260308T070000
END:DAYLIGHT
BEGIN:STANDARD
TZOFFSETFROM:-0400
TZOFFSETTO:-0500
TZNAME:EST
DTSTART:20261101T060000
END:STANDARD
END:VTIMEZONE
BEGIN:VEVENT
DTSTART;TZID=America/New_York:20250321T180000
DTEND;TZID=America/New_York:20250321T210000
DTSTAMP:20260424T022417
CREATED:20250228T152217Z
LAST-MODIFIED:20250321T160656Z
UID:10000075-1742580000-1742590800@www.somaharrisburg.com
SUMMARY:Strawberry Square Music Series – Tech Jet Fighters
DESCRIPTION:Strawberry Square Music Series welcomes The Super High-Tech Jet Fighters with special guest TBA on Friday\, March 21. \nThe Super High-Tech Jet Fighters\n \n📅 When: 6-9 PM\, Friday\, March 21\n📍 Where: UPMC Clock Box Stage\, Strawberry Square Atrium\n💵 Cost: FREE! \nThe Super High-Tech Jet Fighters\n\nFormed in the summer of 2017\, this punk-influenced power pop outfit has made its mark on the scene as they continue to play shows and write & record new music. Their debut EP\, “You Can’t Miss Out on Tonight\,” was released on January 31\, 2020 with two follow-up EPs\, “A Softer Side” & “Rock N’ Roll\,” delivered shortly thereafter. Their latest effort\, “Ramona’s Basement\,” was released in March 2023. \n\nBring your friends\, enjoy the music\, grab a bite\, and soak in the energy of this fantastic new event. \n\nAbout the Strawberry Square Music Series\nThe all-new Strawberry Square Music Series brings live music and entertainment to Harrisburg’s 3rd in the Burg Fridays! Join us at the UPMC Clock Box Stage in the Atrium of Strawberry Square for a dynamic lineup of performances. \n✨ What to Expect:\n\nLive music from a diverse lineup of talented artists\nPop-up food and beverage vendors right in the Square\nA FREE\, vibrant community event perfect for music lovers of all ages\n\n💫 Become an SSMS VIP!\nPick up a Strawberry Square Music Series Loyalty Card at any SSMS show. Get your card punched at each event you attend and earn exclusive rewards! \n\nAttend 3 SSMS shows → Get a FREE Strawberry Square Music Series sticker\nAttend 6 SSMS shows → Get a FREE SSMS swag bag\nAttend 9 SSMS shows → Receive an invite to an exclusive VIP Happy Hour inside the UPMC Clock Box during December’s concert!\n\nCome for the music\, stay for the vibes—we’ll see you at Strawberry Square!
URL:https://www.somaharrisburg.com/event/strawberry-square-music-series-tech-jet-fighters/
LOCATION:Strawberry Square\, 320 Market Street\, Harrisburg\, PA\, 17101\, United States
CATEGORIES:SoMa
ATTACH;FMTTYPE=image/png:https://www.somaharrisburg.com/wp-content/uploads/2025/02/TSHTJF-FB-WRO5C8.tmp_.png
END:VEVENT
END:VCALENDAR