BEGIN:VCALENDAR
VERSION:2.0
PRODID:-//SoMa Harrisburg - ECPv6.15.17.1//NONSGML v1.0//EN
CALSCALE:GREGORIAN
METHOD:PUBLISH
X-WR-CALNAME:SoMa Harrisburg
X-ORIGINAL-URL:https://www.somaharrisburg.com
X-WR-CALDESC:Events for SoMa Harrisburg
REFRESH-INTERVAL;VALUE=DURATION:PT1H
X-Robots-Tag:noindex
X-PUBLISHED-TTL:PT1H
BEGIN:VTIMEZONE
TZID:America/New_York
BEGIN:DAYLIGHT
TZOFFSETFROM:-0500
TZOFFSETTO:-0400
TZNAME:EDT
DTSTART:20230312T070000
END:DAYLIGHT
BEGIN:STANDARD
TZOFFSETFROM:-0400
TZOFFSETTO:-0500
TZNAME:EST
DTSTART:20231105T060000
END:STANDARD
BEGIN:DAYLIGHT
TZOFFSETFROM:-0500
TZOFFSETTO:-0400
TZNAME:EDT
DTSTART:20240310T070000
END:DAYLIGHT
BEGIN:STANDARD
TZOFFSETFROM:-0400
TZOFFSETTO:-0500
TZNAME:EST
DTSTART:20241103T060000
END:STANDARD
BEGIN:DAYLIGHT
TZOFFSETFROM:-0500
TZOFFSETTO:-0400
TZNAME:EDT
DTSTART:20250309T070000
END:DAYLIGHT
BEGIN:STANDARD
TZOFFSETFROM:-0400
TZOFFSETTO:-0500
TZNAME:EST
DTSTART:20251102T060000
END:STANDARD
END:VTIMEZONE
BEGIN:VEVENT
DTSTART;TZID=America/New_York:20241219T100000
DTEND;TZID=America/New_York:20241219T110000
DTSTAMP:20260424T090322
CREATED:20241111T160651Z
LAST-MODIFIED:20241219T153655Z
UID:10000068-1734602400-1734606000@www.somaharrisburg.com
SUMMARY:Atrium Stage | Best Friends Daycare
DESCRIPTION:Come visit the Square today and enjoy a stage event from Best Friends Daycare from 10am – 11am.
URL:https://www.somaharrisburg.com/event/atrium-stage-best-friends-daycare/
LOCATION:Strawberry Square\, 320 Market Street\, Harrisburg\, PA\, 17101\, United States
CATEGORIES:SoMa
ATTACH;FMTTYPE=image/jpeg:https://www.somaharrisburg.com/wp-content/uploads/2024/11/BestFriendsDayCareChristmasStage-1qxmEw.tmp_.jpg
END:VEVENT
BEGIN:VEVENT
DTSTART;TZID=America/New_York:20241219T113000
DTEND;TZID=America/New_York:20241219T130000
DTSTAMP:20260424T090322
CREATED:20241111T160652Z
LAST-MODIFIED:20241219T153656Z
UID:10000069-1734607800-1734613200@www.somaharrisburg.com
SUMMARY:Atrium Stage | St. Joseph School Choir\, Chimes & Handbells
DESCRIPTION:Come to the Square for lunch today and enjoy the St. Joseph School Choir\, Chimes & Handbells from 11:30am – 1pm.
URL:https://www.somaharrisburg.com/event/atrium-stage-st-joseph-school-choir-chimes-handbells/
LOCATION:Strawberry Square\, 320 Market Street\, Harrisburg\, PA\, 17101\, United States
CATEGORIES:SoMa
ATTACH;FMTTYPE=image/jpeg:https://www.somaharrisburg.com/wp-content/uploads/2024/11/bells-hero-XwnkBL.tmp_.jpg
END:VEVENT
END:VCALENDAR