BEGIN:VCALENDAR
VERSION:2.0
PRODID:-//SoMa Harrisburg - ECPv6.15.17.1//NONSGML v1.0//EN
CALSCALE:GREGORIAN
METHOD:PUBLISH
X-ORIGINAL-URL:https://www.somaharrisburg.com
X-WR-CALDESC:Events for SoMa Harrisburg
REFRESH-INTERVAL;VALUE=DURATION:PT1H
X-Robots-Tag:noindex
X-PUBLISHED-TTL:PT1H
BEGIN:VTIMEZONE
TZID:America/New_York
BEGIN:DAYLIGHT
TZOFFSETFROM:-0500
TZOFFSETTO:-0400
TZNAME:EDT
DTSTART:20230312T070000
END:DAYLIGHT
BEGIN:STANDARD
TZOFFSETFROM:-0400
TZOFFSETTO:-0500
TZNAME:EST
DTSTART:20231105T060000
END:STANDARD
BEGIN:DAYLIGHT
TZOFFSETFROM:-0500
TZOFFSETTO:-0400
TZNAME:EDT
DTSTART:20240310T070000
END:DAYLIGHT
BEGIN:STANDARD
TZOFFSETFROM:-0400
TZOFFSETTO:-0500
TZNAME:EST
DTSTART:20241103T060000
END:STANDARD
BEGIN:DAYLIGHT
TZOFFSETFROM:-0500
TZOFFSETTO:-0400
TZNAME:EDT
DTSTART:20250309T070000
END:DAYLIGHT
BEGIN:STANDARD
TZOFFSETFROM:-0400
TZOFFSETTO:-0500
TZNAME:EST
DTSTART:20251102T060000
END:STANDARD
END:VTIMEZONE
BEGIN:VEVENT
DTSTART;TZID=America/New_York:20240627T180000
DTEND;TZID=America/New_York:20240627T220000
DTSTAMP:20260424T204418
CREATED:20240430T144216Z
LAST-MODIFIED:20240627T182012Z
UID:10000041-1719511200-1719525600@www.somaharrisburg.com
SUMMARY:SoMa Block Party | Budget Bash! | June 2024
DESCRIPTION:Join us under the lights in SoMa for our “Budget Bash” Block Party in downtown Harrisburg!\n6-10 PM • Thursday\, June 27!  \nFeaturing: \n\nWich Way Sandwiches\n717 Tacos\nMellie Bellies\nSunset Slush of Gettysburg\nJackie’s Snackies\nMidstate Distillery\nShy Bear Brewing\nEnglewood Brewing\nArmstrong Valley Winery\nReign & Taij’s Lemonade\nPalmyra Greenhouse Flower Truck\n\nLIVE MUSIC BY MARK DEROSE & THE DREADNAUGHTS! \nDon’t miss your selfie with Hit the Angles 360 Photobooth! \nPlus\, visit our SoMa friends Found Collab\, Tamara’s Boutique\, Boneshire Taps at SoMa\, El Sol Mexican Restaurant\, JoJo’s Barber Shop. \nBlock parties take place on S. Third St. between Market & Chestnuts Streets. Street parking is available around the area and free after 5 p.m. \nEvents are FREE to attend and open to the public! Pay-as-you-go.
URL:https://www.somaharrisburg.com/event/soma-block-party-budget-bash-june-2024/
LOCATION:SoMa\, South 3rd Street\, Harrisburg\, PA\, 17110\, United States
CATEGORIES:SoMa
ATTACH;FMTTYPE=image/png:https://www.somaharrisburg.com/wp-content/uploads/2024/04/June-27-2024-1536x864-1-PbHnmF.tmp_.png
END:VEVENT
END:VCALENDAR