BEGIN:VCALENDAR
VERSION:2.0
PRODID:-//SoMa Harrisburg - ECPv6.15.17.1//NONSGML v1.0//EN
CALSCALE:GREGORIAN
METHOD:PUBLISH
X-WR-CALNAME:SoMa Harrisburg
X-ORIGINAL-URL:https://www.somaharrisburg.com
X-WR-CALDESC:Events for SoMa Harrisburg
REFRESH-INTERVAL;VALUE=DURATION:PT1H
X-Robots-Tag:noindex
X-PUBLISHED-TTL:PT1H
BEGIN:VTIMEZONE
TZID:America/New_York
BEGIN:DAYLIGHT
TZOFFSETFROM:-0500
TZOFFSETTO:-0400
TZNAME:EDT
DTSTART:20240310T070000
END:DAYLIGHT
BEGIN:STANDARD
TZOFFSETFROM:-0400
TZOFFSETTO:-0500
TZNAME:EST
DTSTART:20241103T060000
END:STANDARD
BEGIN:DAYLIGHT
TZOFFSETFROM:-0500
TZOFFSETTO:-0400
TZNAME:EDT
DTSTART:20250309T070000
END:DAYLIGHT
BEGIN:STANDARD
TZOFFSETFROM:-0400
TZOFFSETTO:-0500
TZNAME:EST
DTSTART:20251102T060000
END:STANDARD
BEGIN:DAYLIGHT
TZOFFSETFROM:-0500
TZOFFSETTO:-0400
TZNAME:EDT
DTSTART:20260308T070000
END:DAYLIGHT
BEGIN:STANDARD
TZOFFSETFROM:-0400
TZOFFSETTO:-0500
TZNAME:EST
DTSTART:20261101T060000
END:STANDARD
END:VTIMEZONE
BEGIN:VEVENT
DTSTART;TZID=America/New_York:20250815T180000
DTEND;TZID=America/New_York:20250815T210000
DTSTAMP:20260423T160141
CREATED:20250517T180650Z
LAST-MODIFIED:20250618T170731Z
UID:10000085-1755280800-1755291600@www.somaharrisburg.com
SUMMARY:Strawberry Square Music Series – Meaghan Farrell
DESCRIPTION:Strawberry Square Music Series welcomes Meaghan Farrell on Friday\, August 15. \nMeaghan Farrell\n \n📅 When: 6-9 PM\, Friday\, Aug. 15\n📍 Where: UPMC Clock Box Stage\, Strawberry Square Atrium\n💵 Cost: FREE! \nMeaghan Farrell\nMeaghan was born into music and performing. Hailing from Harrisburg Pennsylvania\, her parents performed in community theater and her dad taught music and theater for 30 + years.  \nMeaghan would make her stage debut at 10 years old and continue performing throughout high school\, eventually landing in New York City. There she studied Drama at the American Musical and Dramatic Academy. After School\, Meaghan performed in a sketch comedy group for several years\, but most of her 20s were spent on drugs and alcohol.  \nMeaghan woke up one morning and realized her addiction was taking away her life and talent. At 28 years old\, Meaghan quit alcohol and drugs cold turkey\, and within one month was writing songs for the very first time. And that was that.  \nMeaghan went on to release her very first album “Waitress” and two EP’s “Seeing Clearly Now” & “East Coast Girl”. Meaghan then had another life-changing moment when she faced mental health struggles of depression and anxiety. Those struggles led her to leave NYC after sixteen years and follow her newly opened eyes and heart all the way to Nashville\, TN.  \nNashville brought long awaited peace and inspiration to her life. Now writing from a whole new place\, and making new and lasting artistic friendships\, Meaghan would go on to write her second full length album “Conversations with Myself” produced by the massively talented Dan & Nate Monea.  \nAfter writing and living from a place of gratitude and joy\, Meaghan began touring and making a name for herself on the road – performing on The Rock Boat three years in a row and hopping on tours with artists and bands like Red Wanting Blue\, Will Hoge and Leah Marlene. And the songs kept on coming!  \nHer latest album “Motherland” was released in August 2024. Produced once more by Dan & Nate Monea\, along with a special guest producer\, Will Hoge. This hauntingly truthful and symphonic record proves to her fans that Meaghan is still “keeping it weird” and continues to be a safe space for ALL who come to see her perform.  \nListen to Meaghan Farrell\n \n\nAbout the Strawberry Square Music Series\nThe all-new Strawberry Square Music Series brings live music and entertainment to Harrisburg’s 3rd in the Burg Fridays! Join us at the UPMC Clock Box Stage in the Atrium of Strawberry Square for a dynamic lineup of performances. \n✨ What to Expect:\n\nLive music from a diverse lineup of talented artists\nPop-up food and beverage vendors right in the Square\nA FREE\, vibrant community event perfect for music lovers of all ages\n\n💫 Become an SSMS VIP!\nPick up a Strawberry Square Music Series Loyalty Card at any SSMS show. Get your card punched at each event you attend and earn exclusive rewards! \n\nAttend 3 SSMS shows → Get a FREE Strawberry Square Music Series sticker\nAttend 6 SSMS shows → Get a FREE SSMS swag bag\nAttend 9 SSMS shows → Receive an invite to an exclusive VIP Happy Hour inside the UPMC Clock Box during December’s concert!\n\nCome for the music\, stay for the vibes—we’ll see you at Strawberry Square!
URL:https://www.somaharrisburg.com/event/strawberry-square-music-series-meaghan-farrell/
LOCATION:Strawberry Square\, 320 Market Street\, Harrisburg\, PA\, 17101\, United States
CATEGORIES:SoMa
ATTACH;FMTTYPE=image/png:https://www.somaharrisburg.com/wp-content/uploads/2025/05/Aug.-15-Meaghan-Farrell-YfZT6E.png
END:VEVENT
BEGIN:VEVENT
DTSTART;TZID=America/New_York:20250828T180000
DTEND;TZID=America/New_York:20250828T220000
DTSTAMP:20260423T160141
CREATED:20250530T162219Z
LAST-MODIFIED:20250618T170731Z
UID:10000087-1756404000-1756418400@www.somaharrisburg.com
SUMMARY:SoMa Block Party | August 2025
DESCRIPTION:The SoMa Block Party Series is Back!\nGet ready to join us under the lights for Harrisburg’s favorite block party series! The SoMa Block Party brings the energy with live music\, local food trucks\, craft drinks\, and pop-up experiences right in the heart of downtown Harrisburg. \n🗓️ Thursday\, Aug. 28\n📍 S. Third St. between Market & Chestnut Streets\n⏰ 6-10 PM \nEach month features new bands\, new vendors\, and fresh vibes\, making every event one you won’t want to miss. Whether you’re grabbing a bite from a local food truck\, sipping on craft brews\, or dancing in the streets\, there’s something for everyone at SoMa. \n✨ Live music? We’ve got you covered. In August\, we’ll feature roots + blues band\, Smokehouse 4. \n📸 Photo ops\, pop-ups\, and more surprises await. \nBlock parties are FREE to attend and open to all ages. Just pay as you go for food\, drinks\, and special experiences! \nStay tuned for details on food\, drink\, and more as we get closer to each date. Follow along for updates — you won’t want to miss it!
URL:https://www.somaharrisburg.com/event/soma-block-party-august-2025/
LOCATION:SoMa\, South 3rd Street\, Harrisburg\, PA\, 17110\, United States
CATEGORIES:SoMa
ATTACH;FMTTYPE=image/png:https://www.somaharrisburg.com/wp-content/uploads/2025/05/SoMa-BlockParty-August2025-nrIi3T.png
END:VEVENT
END:VCALENDAR