BEGIN:VCALENDAR
VERSION:2.0
PRODID:-//SoMa Harrisburg - ECPv6.15.17.1//NONSGML v1.0//EN
CALSCALE:GREGORIAN
METHOD:PUBLISH
X-ORIGINAL-URL:https://www.somaharrisburg.com
X-WR-CALDESC:Events for SoMa Harrisburg
REFRESH-INTERVAL;VALUE=DURATION:PT1H
X-Robots-Tag:noindex
X-PUBLISHED-TTL:PT1H
BEGIN:VTIMEZONE
TZID:America/New_York
BEGIN:DAYLIGHT
TZOFFSETFROM:-0500
TZOFFSETTO:-0400
TZNAME:EDT
DTSTART:20240310T070000
END:DAYLIGHT
BEGIN:STANDARD
TZOFFSETFROM:-0400
TZOFFSETTO:-0500
TZNAME:EST
DTSTART:20241103T060000
END:STANDARD
BEGIN:DAYLIGHT
TZOFFSETFROM:-0500
TZOFFSETTO:-0400
TZNAME:EDT
DTSTART:20250309T070000
END:DAYLIGHT
BEGIN:STANDARD
TZOFFSETFROM:-0400
TZOFFSETTO:-0500
TZNAME:EST
DTSTART:20251102T060000
END:STANDARD
BEGIN:DAYLIGHT
TZOFFSETFROM:-0500
TZOFFSETTO:-0400
TZNAME:EDT
DTSTART:20260308T070000
END:DAYLIGHT
BEGIN:STANDARD
TZOFFSETFROM:-0400
TZOFFSETTO:-0500
TZNAME:EST
DTSTART:20261101T060000
END:STANDARD
END:VTIMEZONE
BEGIN:VEVENT
DTSTART;TZID=America/New_York:20250718T180000
DTEND;TZID=America/New_York:20250718T210000
DTSTAMP:20260423T174925
CREATED:20250419T165136Z
LAST-MODIFIED:20250618T170731Z
UID:10000081-1752861600-1752872400@www.somaharrisburg.com
SUMMARY:Strawberry Square Music Series – Barkley Cove
DESCRIPTION:Strawberry Square Music Series welcomes Barkley Cove with special guest to be announced on Friday\, July 18. \nBarkley Cove\n\n📅 When: 6-9 PM\, Friday\, July 18\n📍 Where: UPMC Clock Box Stage\, Strawberry Square Atrium\n💵 Cost: FREE! \nBarkley Cove\nStay tuned to learn more about Barkley Cove. \nListen to Barkley Cove\n \n\nAbout the Strawberry Square Music Series\nThe all-new Strawberry Square Music Series brings live music and entertainment to Harrisburg’s 3rd in the Burg Fridays! Join us at the UPMC Clock Box Stage in the Atrium of Strawberry Square for a dynamic lineup of performances. \n✨ What to Expect:\n\nLive music from a diverse lineup of talented artists\nPop-up food and beverage vendors right in the Square\nA FREE\, vibrant community event perfect for music lovers of all ages\n\n💫 Become an SSMS VIP!\nPick up a Strawberry Square Music Series Loyalty Card at any SSMS show. Get your card punched at each event you attend and earn exclusive rewards! \n\nAttend 3 SSMS shows → Get a FREE Strawberry Square Music Series sticker\nAttend 6 SSMS shows → Get a FREE SSMS swag bag\nAttend 9 SSMS shows → Receive an invite to an exclusive VIP Happy Hour inside the UPMC Clock Box during December’s concert!\n\nCome for the music\, stay for the vibes—we’ll see you at Strawberry Square!
URL:https://www.somaharrisburg.com/event/strawberry-square-music-series-barkley-cove/
LOCATION:Strawberry Square\, 320 Market Street\, Harrisburg\, PA\, 17101\, United States
CATEGORIES:SoMa
ATTACH;FMTTYPE=image/png:https://www.somaharrisburg.com/wp-content/uploads/2025/04/July-18-Barkley-Cove-with-special-guest-TBA-jvtzJp.png
END:VEVENT
BEGIN:VEVENT
DTSTART;TZID=America/New_York:20250731T180000
DTEND;TZID=America/New_York:20250731T220000
DTSTAMP:20260423T174925
CREATED:20250502T172132Z
LAST-MODIFIED:20250618T170731Z
UID:10000082-1753984800-1753999200@www.somaharrisburg.com
SUMMARY:SoMa Block Party | July 2025
DESCRIPTION:The SoMa Block Party Series is Back!\nGet ready to join us under the lights for Harrisburg’s favorite block party series! The SoMa Block Party brings the energy with live music\, local food trucks\, craft drinks\, and pop-up experiences right in the heart of downtown Harrisburg. \n🗓️ Thursday\, July 31\n📍 S. Third St. between Market & Chestnut Streets\n⏰ 6-10 PM \nEach month features new bands\, new vendors\, and fresh vibes\, making every event one you won’t want to miss. Whether you’re grabbing a bite from a local food truck\, sipping on craft brews\, or dancing in the streets\, there’s something for everyone at SoMa. \n✨ Live music? We’ve got you covered. In July\, we’ll feature party rock band\, Vivid Vinyl. \n📸 Photo ops\, pop-ups\, and more surprises await. \nBlock parties are FREE to attend and open to all ages. Just pay as you go for food\, drinks\, and special experiences! \nStay tuned for details on food\, drink\, and more as we get closer to each date. Follow along for updates — you won’t want to miss it!
URL:https://www.somaharrisburg.com/event/soma-block-party-july-2025/
LOCATION:SoMa\, South 3rd Street\, Harrisburg\, PA\, 17110\, United States
CATEGORIES:SoMa
ATTACH;FMTTYPE=image/png:https://www.somaharrisburg.com/wp-content/uploads/2025/05/SoMa-BlockParty-July2025-ZuYnVb.png
END:VEVENT
END:VCALENDAR