BEGIN:VCALENDAR
VERSION:2.0
PRODID:-//SoMa Harrisburg - ECPv6.15.17.1//NONSGML v1.0//EN
CALSCALE:GREGORIAN
METHOD:PUBLISH
X-WR-CALNAME:SoMa Harrisburg
X-ORIGINAL-URL:https://www.somaharrisburg.com
X-WR-CALDESC:Events for SoMa Harrisburg
REFRESH-INTERVAL;VALUE=DURATION:PT1H
X-Robots-Tag:noindex
X-PUBLISHED-TTL:PT1H
BEGIN:VTIMEZONE
TZID:America/New_York
BEGIN:DAYLIGHT
TZOFFSETFROM:-0500
TZOFFSETTO:-0400
TZNAME:EDT
DTSTART:20230312T070000
END:DAYLIGHT
BEGIN:STANDARD
TZOFFSETFROM:-0400
TZOFFSETTO:-0500
TZNAME:EST
DTSTART:20231105T060000
END:STANDARD
BEGIN:DAYLIGHT
TZOFFSETFROM:-0500
TZOFFSETTO:-0400
TZNAME:EDT
DTSTART:20240310T070000
END:DAYLIGHT
BEGIN:STANDARD
TZOFFSETFROM:-0400
TZOFFSETTO:-0500
TZNAME:EST
DTSTART:20241103T060000
END:STANDARD
BEGIN:DAYLIGHT
TZOFFSETFROM:-0500
TZOFFSETTO:-0400
TZNAME:EDT
DTSTART:20250309T070000
END:DAYLIGHT
BEGIN:STANDARD
TZOFFSETFROM:-0400
TZOFFSETTO:-0500
TZNAME:EST
DTSTART:20251102T060000
END:STANDARD
END:VTIMEZONE
BEGIN:VEVENT
DTSTART;TZID=America/New_York:20241201T110000
DTEND;TZID=America/New_York:20241201T160000
DTSTAMP:20260424T053150
CREATED:20241111T160646Z
LAST-MODIFIED:20241130T172302Z
UID:10000055-1733050800-1733068800@www.somaharrisburg.com
SUMMARY:SoMa Christmas Market
DESCRIPTION:Shop local on Sunday\, Dec. 1 at the SoMa Christmas Market!\nIn its second year\, the SoMa Christmas Market is an outdoor artisan market featuring local makers\, food trucks\, beverages\, and music. The perfect way to #shoplocal in time for the holiday season! \n\nSoMa Christmas Market\n\nWho: Local artisan vendors and makers\, food trucks\, YOU!\nWhen: Sunday\, December 1\, from 11 a.m. to 4 p.m.\nWhere: S. Third St.\, between Market & Chestnut Sts\, Harrisburg\, PA\nWhat: An outdoor artisan holiday market featuring vendors\, food trucks\, music\, beverages\, and more. This event is free for attendees!\n\n\nWhat to Eat & Drink\nWe’re featuring a handful of options to enjoy while you shop! \nCrema Coffee Truck – Coffee\, Lattes\, Cold Brew\, Handcrafted Energy Drinks\, lemonade\, hot/iced tea\, hot chocolate\, chai and bagels/pastries \nMadeline’s Sweets & Savories – Soup and Ice Cream! \nBFD’s Snack Wagon –  Kettle Corn\, Fresh Squeezed Fruit Drinks & Hot Chocolate \nBoneshire Brew Works – Stop into Boneshire Taps @ SoMa for a delicious craft beer \nCastlerigg Wine Shop – Grab a glass of wine while you shop or bottles to go to plan for the holidays. Located inside the former Bricco restaurant. \nHOLLA Spirits – Enjoy a cocktail or purchase bottles to go. Located inside the former Bricco restaurant. \nThistle Finch Distillery – Enjoy canned cocktails and spirits. Located inside the former Bricco restaurant. \n\nWhat to Shop – Our Vendors\nStay tuned as we continue to update this list! \n\nAndi’s gARTen – Mosaic art\, mostly garden items – flower pots\, vases\, stepping stones\, etc\nSimply Flavorful – Olive oils\, balsamic vinegars\, spices\, pantry staples\, and kitchen accessories\nClever Fox Crafting – Homemade quilts and quilted items such as coasters\, tea wallets\, bowl cozies\, table runners\, book sleeves\, and wall hangings.\nelle&olyv baking co. – small baking business specializing in from-scratch baked goods.\nHILLIARD ART & DESIGN – art and comics\nSeymour’s Plant Boutique and Apothecary – Plant boutique selling houseplants and locally made gifts\nMoonrise Candle Co. – Hand poured\, 100% Soy Wax Candles\nTC Modern Woodworks – Handmade home decor items made with highly figured hardwoods and epoxy\nSalted Butter Bakery – Brownies\, Cinnamon Rolls\, Cookies\, Cake!\nChocolate Avenue Candle Co. – Candle company specializing in unique scents as well as a line of home decor items including candles in special handmade concrete vessels such as jewelry trays\, coasters\, and more. \nDoggie Delights – Doggie Treats\nCentral Wedge Cheese Shop – curated selection of farmstead\, artisan\, and specialty cheeses made in Pennsylvania. plus locally-made pretzels\, charcuterie\, mustards\, and jams/jellies\nJillian’s General Store – Outdoor adventure-themed\, sustainable goods and secondhand apparel. Various items include stickers\, hats\, journals\, air fresheners\, pocket size games\, and more!\nComfort From My Kitchen – Natural and organic soap\, personal care and pet products\nC\, J & W Enterprises – Chainmaille bracelets and earrings; pride keychains and jewelry; stone pendants\nCaitelle – Handcrafted coconut soy wax candles\, perfumes and perfume oils\, wax melts\nHorizons Creative Studio – needle-felted and hand-embroidered items\, as well as fiber arts kits of original designs.\nThe Lathered Dragon – handmade soaps\nTannenbaum Sauces – botanical hot sauces\n\nPlus\, visit Found Collab\, Tamara’s Boutique\, and El Sol Mexican Restaurant!
URL:https://www.somaharrisburg.com/event/soma-christmas-market-2/
LOCATION:SoMa\, South 3rd Street\, Harrisburg\, PA\, 17110\, United States
CATEGORIES:SoMa
ATTACH;FMTTYPE=image/jpeg:https://www.somaharrisburg.com/wp-content/uploads/2024/11/SoMa-Christmas-Market-Facebook-Event-Header-2024-gCOOHf.tmp_.jpg
END:VEVENT
BEGIN:VEVENT
DTSTART;TZID=America/New_York:20241203T120000
DTEND;TZID=America/New_York:20241203T130000
DTSTAMP:20260424T053150
CREATED:20241111T160646Z
LAST-MODIFIED:20241130T172302Z
UID:10000056-1733227200-1733230800@www.somaharrisburg.com
SUMMARY:Atrium Stage | The Pickups
DESCRIPTION:Come to the Square for lunch today and enjoy the The Pickups from 12pm – 1pm.
URL:https://www.somaharrisburg.com/event/atrium-stage-the-pickups/
LOCATION:Strawberry Square\, 320 Market Street\, Harrisburg\, PA\, 17101\, United States
CATEGORIES:SoMa
ATTACH;FMTTYPE=image/jpeg:https://www.somaharrisburg.com/wp-content/uploads/2024/11/StrawbeerySquareChristmas2-tHyrmZ.tmp_.jpg
END:VEVENT
BEGIN:VEVENT
DTSTART;TZID=America/New_York:20241204T120000
DTEND;TZID=America/New_York:20241204T130000
DTSTAMP:20260424T053150
CREATED:20241111T160647Z
LAST-MODIFIED:20241204T144226Z
UID:10000057-1733313600-1733317200@www.somaharrisburg.com
SUMMARY:Atrium Stage | Keith Engle – Fiddler
DESCRIPTION:Come to the Square for lunch today and enjoy Keith Engle – Fiddler from 12pm – 1pm.
URL:https://www.somaharrisburg.com/event/atrium-stage-keith-engle-fiddler/
LOCATION:Strawberry Square\, 320 Market Street\, Harrisburg\, PA\, 17101\, United States
CATEGORIES:SoMa
ATTACH;FMTTYPE=image/jpeg:https://www.somaharrisburg.com/wp-content/uploads/2024/11/KeithEngle-Fiddler-tpUHfE.tmp_.jpg
END:VEVENT
BEGIN:VEVENT
DTSTART;TZID=America/New_York:20241205T120000
DTEND;TZID=America/New_York:20241205T130000
DTSTAMP:20260424T053150
CREATED:20241111T160648Z
LAST-MODIFIED:20241205T145523Z
UID:10000058-1733400000-1733403600@www.somaharrisburg.com
SUMMARY:Atrium Stage | No Last Call
DESCRIPTION:Come to the Square for lunch today and enjoy No Last Call from 12pm – 1pm.
URL:https://www.somaharrisburg.com/event/atrium-stage-no-last-call/
LOCATION:Strawberry Square\, 320 Market Street\, Harrisburg\, PA\, 17101\, United States
CATEGORIES:SoMa
ATTACH;FMTTYPE=image/jpeg:https://www.somaharrisburg.com/wp-content/uploads/2024/11/NoLastCall-ObSRm6.tmp_.jpg
END:VEVENT
BEGIN:VEVENT
DTSTART;TZID=America/New_York:20241209T120000
DTEND;TZID=America/New_York:20241209T130000
DTSTAMP:20260424T053150
CREATED:20241111T160648Z
LAST-MODIFIED:20241209T150741Z
UID:10000059-1733745600-1733749200@www.somaharrisburg.com
SUMMARY:Atrium Stage | CASA Student Dancers
DESCRIPTION:Come to the Square for lunch today and enjoy the CASA Student Dancers from 12pm – 1pm.
URL:https://www.somaharrisburg.com/event/atrium-stage-casa-student-dancers/
LOCATION:Strawberry Square\, 320 Market Street\, Harrisburg\, PA\, 17101\, United States
CATEGORIES:SoMa
ATTACH;FMTTYPE=image/webp:https://www.somaharrisburg.com/wp-content/uploads/2024/11/CASA-Create-Yourself-Logo_REV-fNSPC4.tmp_.webp
END:VEVENT
BEGIN:VEVENT
DTSTART;TZID=America/New_York:20241210T110000
DTEND;TZID=America/New_York:20241210T120000
DTSTAMP:20260424T053150
CREATED:20241111T160648Z
LAST-MODIFIED:20241210T150919Z
UID:10000060-1733828400-1733832000@www.somaharrisburg.com
SUMMARY:Atrium Stage | Greenwood HS Bands
DESCRIPTION:Come to the Square for lunch today and enjoy the Greenwood HS Bands from 11am – 12pm.
URL:https://www.somaharrisburg.com/event/atrium-stage-greenwood-hs-bands/
LOCATION:Strawberry Square\, 320 Market Street\, Harrisburg\, PA\, 17101\, United States
CATEGORIES:SoMa
ATTACH;FMTTYPE=image/jpeg:https://www.somaharrisburg.com/wp-content/uploads/2024/11/318746398_570385125097224_7234051903467551986_n-uu0o4m.tmp_.jpg
END:VEVENT
BEGIN:VEVENT
DTSTART;TZID=America/New_York:20241211T113000
DTEND;TZID=America/New_York:20241211T130000
DTSTAMP:20260424T053150
CREATED:20241111T160648Z
LAST-MODIFIED:20241211T152446Z
UID:10000061-1733916600-1733922000@www.somaharrisburg.com
SUMMARY:Atrium Stage | York-Adams Mennonite Singers
DESCRIPTION:Come to the Square for lunch today and enjoy the York Adams Mennonite Singers from 11:30am – 1pm.
URL:https://www.somaharrisburg.com/event/atrium-stage-york-adams-mennonite-singers-2/
LOCATION:Strawberry Square\, 320 Market Street\, Harrisburg\, PA\, 17101\, United States
CATEGORIES:SoMa
ATTACH;FMTTYPE=image/jpeg:https://www.somaharrisburg.com/wp-content/uploads/2024/11/StrawbeerySquareChristmas3-T6ZPdM.tmp_.jpg
END:VEVENT
BEGIN:VEVENT
DTSTART;TZID=America/New_York:20241212T120000
DTEND;TZID=America/New_York:20241212T130000
DTSTAMP:20260424T053150
CREATED:20241111T160649Z
LAST-MODIFIED:20241212T152707Z
UID:10000062-1734004800-1734008400@www.somaharrisburg.com
SUMMARY:Atrium Stage | Charles Lee
DESCRIPTION:Come to the Square for lunch today and enjoy Charles Lee from 12pm – 1pm.
URL:https://www.somaharrisburg.com/event/atrium-stage-charles-lee/
LOCATION:Strawberry Square\, 320 Market Street\, Harrisburg\, PA\, 17101\, United States
CATEGORIES:SoMa
ATTACH;FMTTYPE=image/jpeg:https://www.somaharrisburg.com/wp-content/uploads/2024/11/StrawbeerySquareChristmas2-tHyrmZ.tmp_.jpg
END:VEVENT
BEGIN:VEVENT
DTSTART;TZID=America/New_York:20241213T120000
DTEND;TZID=America/New_York:20241213T130000
DTSTAMP:20260424T053150
CREATED:20241111T160649Z
LAST-MODIFIED:20241213T153627Z
UID:10000063-1734091200-1734094800@www.somaharrisburg.com
SUMMARY:Atrium Stage | Central Dauphin HS Jazz Band
DESCRIPTION:Come to the Square for lunch today and enjoy the Central Dauphin HS Jazz Band from 12pm – 1pm.
URL:https://www.somaharrisburg.com/event/atrium-stage-central-dauphin-hs-jazz-band/
LOCATION:Strawberry Square\, 320 Market Street\, Harrisburg\, PA\, 17101\, United States
CATEGORIES:SoMa
ATTACH;FMTTYPE=image/jpeg:https://www.somaharrisburg.com/wp-content/uploads/2024/11/drums-4HsSGj.tmp_.jpg
END:VEVENT
BEGIN:VEVENT
DTSTART;TZID=America/New_York:20241213T180000
DTEND;TZID=America/New_York:20241213T200000
DTSTAMP:20260424T053150
CREATED:20241111T160650Z
LAST-MODIFIED:20241213T153628Z
UID:10000064-1734112800-1734120000@www.somaharrisburg.com
SUMMARY:HYP | Snowflake Soirée
DESCRIPTION: The Snowflake Soirée \nStep into a winter wonderland at The Snowflake Soirée\, an enchanting evening filled with holiday cheer and elegant festivities! Dress to impress in shades of gold\, silver\, or white to embrace the sparkling theme — from glamorous gowns to sleek suits. Don’t worry if you don’t have those colors; any cocktail attire is welcome!\nJoin us to reconnect with old friends\, make new connections\, and celebrate the season with fellow HYP members and Harrisburg locals who Live\, Work\, and Play in our vibrant community. Enjoy a night of fun\, laughter.\n\n Details:\nDate & Time: December 13th\, 6-8PMLocation: Strawberry SquareParking: FREE after 5 PM downtown\nDon’t miss this unforgettable evening of joy and community. We can’t wait to see you there!\nAttendees will also be entered to win a beautiful door prize courtesy of Mountz Jewelers!\nFor any questions or comments\, please reach out to the HYP social committee at social@hyp.org
URL:https://www.somaharrisburg.com/event/hyp-snowflake-soiree/
LOCATION:Strawberry Square\, 320 Market Street\, Harrisburg\, PA\, 17101\, United States
CATEGORIES:SoMa
ATTACH;FMTTYPE=image/jpeg:https://www.somaharrisburg.com/wp-content/uploads/2024/11/HYPSnowFlakeSoiree-xxwxmP.tmp_.jpg
END:VEVENT
BEGIN:VEVENT
DTSTART;TZID=America/New_York:20241216T120000
DTEND;TZID=America/New_York:20241216T130000
DTSTAMP:20260424T053150
CREATED:20241111T160650Z
LAST-MODIFIED:20241216T153634Z
UID:10000065-1734350400-1734354000@www.somaharrisburg.com
SUMMARY:Atrium Stage | Derek Sandstrom
DESCRIPTION:Come to the Square for lunch today and enjoy Derek Sandstrom from 12pm – 1pm.
URL:https://www.somaharrisburg.com/event/atrium-stage-derek-sandstrom/
LOCATION:Strawberry Square\, 320 Market Street\, Harrisburg\, PA\, 17101\, United States
CATEGORIES:SoMa
ATTACH;FMTTYPE=image/jpeg:https://www.somaharrisburg.com/wp-content/uploads/2024/11/sax-man-LUb9UH.tmp_.jpg
END:VEVENT
BEGIN:VEVENT
DTSTART;TZID=America/New_York:20241217T120000
DTEND;TZID=America/New_York:20241217T130000
DTSTAMP:20260424T053150
CREATED:20241111T160650Z
LAST-MODIFIED:20241217T153701Z
UID:10000066-1734436800-1734440400@www.somaharrisburg.com
SUMMARY:Atrium Stage | Hershey HS Jazz Combo
DESCRIPTION:Come to the Square for lunch today and enjoy the Hershey HS Jazz Combo from 12pm – 1pm.
URL:https://www.somaharrisburg.com/event/atrium-stage-hershey-hs-jazz-combo/
LOCATION:Strawberry Square\, 320 Market Street\, Harrisburg\, PA\, 17101\, United States
CATEGORIES:SoMa
ATTACH;FMTTYPE=image/jpeg:https://www.somaharrisburg.com/wp-content/uploads/2024/11/HersheyHSJazzCombo-BTN12C.tmp_.jpg
END:VEVENT
BEGIN:VEVENT
DTSTART;TZID=America/New_York:20241218T120000
DTEND;TZID=America/New_York:20241218T130000
DTSTAMP:20260424T053150
CREATED:20241111T160651Z
LAST-MODIFIED:20241218T153635Z
UID:10000067-1734523200-1734526800@www.somaharrisburg.com
SUMMARY:Atrium Stage | Lower Dauphin Chamber Orchestra
DESCRIPTION:Come to the Square for lunch today and enjoy the Lower Dauphin Chamber Orchestra from 12pm – 1pm.
URL:https://www.somaharrisburg.com/event/atrium-stage-lower-dauphin-chamber-orchestra/
LOCATION:Strawberry Square\, 320 Market Street\, Harrisburg\, PA\, 17101\, United States
CATEGORIES:SoMa
ATTACH;FMTTYPE=image/jpeg:https://www.somaharrisburg.com/wp-content/uploads/2024/11/StrawbeerySquareChristmas2-tHyrmZ.tmp_.jpg
END:VEVENT
BEGIN:VEVENT
DTSTART;TZID=America/New_York:20241219T100000
DTEND;TZID=America/New_York:20241219T110000
DTSTAMP:20260424T053150
CREATED:20241111T160651Z
LAST-MODIFIED:20241219T153655Z
UID:10000068-1734602400-1734606000@www.somaharrisburg.com
SUMMARY:Atrium Stage | Best Friends Daycare
DESCRIPTION:Come visit the Square today and enjoy a stage event from Best Friends Daycare from 10am – 11am.
URL:https://www.somaharrisburg.com/event/atrium-stage-best-friends-daycare/
LOCATION:Strawberry Square\, 320 Market Street\, Harrisburg\, PA\, 17101\, United States
CATEGORIES:SoMa
ATTACH;FMTTYPE=image/jpeg:https://www.somaharrisburg.com/wp-content/uploads/2024/11/BestFriendsDayCareChristmasStage-1qxmEw.tmp_.jpg
END:VEVENT
BEGIN:VEVENT
DTSTART;TZID=America/New_York:20241219T113000
DTEND;TZID=America/New_York:20241219T130000
DTSTAMP:20260424T053150
CREATED:20241111T160652Z
LAST-MODIFIED:20241219T153656Z
UID:10000069-1734607800-1734613200@www.somaharrisburg.com
SUMMARY:Atrium Stage | St. Joseph School Choir\, Chimes & Handbells
DESCRIPTION:Come to the Square for lunch today and enjoy the St. Joseph School Choir\, Chimes & Handbells from 11:30am – 1pm.
URL:https://www.somaharrisburg.com/event/atrium-stage-st-joseph-school-choir-chimes-handbells/
LOCATION:Strawberry Square\, 320 Market Street\, Harrisburg\, PA\, 17101\, United States
CATEGORIES:SoMa
ATTACH;FMTTYPE=image/jpeg:https://www.somaharrisburg.com/wp-content/uploads/2024/11/bells-hero-XwnkBL.tmp_.jpg
END:VEVENT
END:VCALENDAR