BEGIN:VCALENDAR
VERSION:2.0
PRODID:-//SoMa Harrisburg - ECPv6.15.17.1//NONSGML v1.0//EN
CALSCALE:GREGORIAN
METHOD:PUBLISH
X-WR-CALNAME:SoMa Harrisburg
X-ORIGINAL-URL:https://www.somaharrisburg.com
X-WR-CALDESC:Events for SoMa Harrisburg
REFRESH-INTERVAL;VALUE=DURATION:PT1H
X-Robots-Tag:noindex
X-PUBLISHED-TTL:PT1H
BEGIN:VTIMEZONE
TZID:America/New_York
BEGIN:DAYLIGHT
TZOFFSETFROM:-0500
TZOFFSETTO:-0400
TZNAME:EDT
DTSTART:20230312T070000
END:DAYLIGHT
BEGIN:STANDARD
TZOFFSETFROM:-0400
TZOFFSETTO:-0500
TZNAME:EST
DTSTART:20231105T060000
END:STANDARD
BEGIN:DAYLIGHT
TZOFFSETFROM:-0500
TZOFFSETTO:-0400
TZNAME:EDT
DTSTART:20240310T070000
END:DAYLIGHT
BEGIN:STANDARD
TZOFFSETFROM:-0400
TZOFFSETTO:-0500
TZNAME:EST
DTSTART:20241103T060000
END:STANDARD
BEGIN:DAYLIGHT
TZOFFSETFROM:-0500
TZOFFSETTO:-0400
TZNAME:EDT
DTSTART:20250309T070000
END:DAYLIGHT
BEGIN:STANDARD
TZOFFSETFROM:-0400
TZOFFSETTO:-0500
TZNAME:EST
DTSTART:20251102T060000
END:STANDARD
END:VTIMEZONE
BEGIN:VEVENT
DTSTART;TZID=America/New_York:20241114T113000
DTEND;TZID=America/New_York:20241114T130000
DTSTAMP:20260424T090025
CREATED:20241111T160645Z
LAST-MODIFIED:20241114T160644Z
UID:10000053-1731583800-1731589200@www.somaharrisburg.com
SUMMARY:Atrium Stage | York-Adams Mennonite Singers
DESCRIPTION:Come to the Square for lunch today and enjoy the York Adams Mennonite Singers from 11:30am – 1pm.
URL:https://www.somaharrisburg.com/event/atrium-stage-york-adams-mennonite-singers/
LOCATION:Strawberry Square\, 320 Market Street\, Harrisburg\, PA\, 17101\, United States
CATEGORIES:SoMa
ATTACH;FMTTYPE=image/jpeg:https://www.somaharrisburg.com/wp-content/uploads/2024/11/318746398_570385125097224_7234051903467551986_n-uu0o4m.tmp_.jpg
END:VEVENT
BEGIN:VEVENT
DTSTART;TZID=America/New_York:20241115T170000
DTEND;TZID=America/New_York:20241115T210000
DTSTAMP:20260424T090025
CREATED:20240912T183449Z
LAST-MODIFIED:20241115T160818Z
UID:10000052-1731690000-1731704400@www.somaharrisburg.com
SUMMARY:November SoMa Pop-Up | 3rd in the Burg
DESCRIPTION:Join us for 3rd in the Burg in SoMa Harrisburg!\nStop into the SoMa Pop-Up bar — now located at 31 S Third St. Harrisburg (former Bricco restaurant). \nFeaturing food by Food Adventures. Live music from Dan Jamison. More to be announced! \n\n3rd in the Burg in SoMa Harrisburg\nJoin us for an unforgettable night of art\, culture\, and fun in Harrisburg! On the third Friday of every month\, 3rd in the Burg celebrates Harrisburg’s vibrant arts scene. Dozens of venues — from downtown to Midtown — come alive with music\, theater\, exhibits\, and more\, making it the perfect opportunity to explore all that SoMa Harrisburg has to offer. \nIn addition to the SoMa Pop-Up bar\, visit our South of Market neighbors\, including Boneshire Brew Works\, Found Collab (featuring SOUND @ FOUND!)\, Tamara Boutique\, and El Sol Mexican Restaurant. \n\nAbout the SoMa Pop-Up Bar\nSoMa Pop-Up Bar is located at 31 S. 3rd St. in downtown Harrisburg (the site of the former Bricco restaurant\, corner of 3rd & Chestnut Sts.). \nWe host fun pop-up events every month for 3rd in the Burg (Fridays) and preceding Thursday evenings. \nEvents are open to the public and free to attend. Simply pay as you go. \nBring some friends\, and join us in SoMa!
URL:https://www.somaharrisburg.com/event/november-soma-pop-up-3rd-in-the-burg/
LOCATION:SoMa\, South 3rd Street\, Harrisburg\, PA\, 17110\, United States
CATEGORIES:SoMa
ATTACH;FMTTYPE=image/png:https://www.somaharrisburg.com/wp-content/uploads/2024/09/November-3rd-in-the-burg-WMwnyN.tmp_.png
END:VEVENT
BEGIN:VEVENT
DTSTART;TZID=America/New_York:20241123T110000
DTEND;TZID=America/New_York:20241123T150000
DTSTAMP:20260424T090025
CREATED:20241111T160645Z
LAST-MODIFIED:20241123T170658Z
UID:10000054-1732359600-1732374000@www.somaharrisburg.com
SUMMARY:Harrisburg Holiday Parade Reception
DESCRIPTION:Come to the Square after the parade to extend the festivities from 11:00am – 3pm.
URL:https://www.somaharrisburg.com/event/harrisburg-holiday-parade-reception-2/
LOCATION:Strawberry Square\, 320 Market Street\, Harrisburg\, PA\, 17101\, United States
CATEGORIES:SoMa
ATTACH;FMTTYPE=image/webp:https://www.somaharrisburg.com/wp-content/uploads/2024/11/Artboard-1-4.png-q5sN22.tmp_.webp
END:VEVENT
END:VCALENDAR