BEGIN:VCALENDAR
VERSION:2.0
PRODID:-//SoMa Harrisburg - ECPv6.15.17.1//NONSGML v1.0//EN
CALSCALE:GREGORIAN
METHOD:PUBLISH
X-WR-CALNAME:SoMa Harrisburg
X-ORIGINAL-URL:https://www.somaharrisburg.com
X-WR-CALDESC:Events for SoMa Harrisburg
REFRESH-INTERVAL;VALUE=DURATION:PT1H
X-Robots-Tag:noindex
X-PUBLISHED-TTL:PT1H
BEGIN:VTIMEZONE
TZID:America/New_York
BEGIN:DAYLIGHT
TZOFFSETFROM:-0500
TZOFFSETTO:-0400
TZNAME:EDT
DTSTART:20230312T070000
END:DAYLIGHT
BEGIN:STANDARD
TZOFFSETFROM:-0400
TZOFFSETTO:-0500
TZNAME:EST
DTSTART:20231105T060000
END:STANDARD
BEGIN:DAYLIGHT
TZOFFSETFROM:-0500
TZOFFSETTO:-0400
TZNAME:EDT
DTSTART:20240310T070000
END:DAYLIGHT
BEGIN:STANDARD
TZOFFSETFROM:-0400
TZOFFSETTO:-0500
TZNAME:EST
DTSTART:20241103T060000
END:STANDARD
BEGIN:DAYLIGHT
TZOFFSETFROM:-0500
TZOFFSETTO:-0400
TZNAME:EDT
DTSTART:20250309T070000
END:DAYLIGHT
BEGIN:STANDARD
TZOFFSETFROM:-0400
TZOFFSETTO:-0500
TZNAME:EST
DTSTART:20251102T060000
END:STANDARD
END:VTIMEZONE
BEGIN:VEVENT
DTSTART;TZID=America/New_York:20241018T170000
DTEND;TZID=America/New_York:20241018T210000
DTSTAMP:20260424T104432
CREATED:20240912T183445Z
LAST-MODIFIED:20241220T153847Z
UID:10000051-1729270800-1729285200@www.somaharrisburg.com
SUMMARY:Holiday Wine Experience SoMa Pop-Up | 3rd in the Burg
DESCRIPTION:Join us for 3rd in the Burg in SoMa Harrisburg!\nStop into the SoMa Pop-Up bar — now located at 31 S Third St. Harrisburg (former Bricco restaurant). \nStay tuned for a very special holiday wine experience at the SoMa Pop-Up bar featuring Boisset Collection wines and food from Home 231. Plus\, a three-hour holiday set from Holly Serio Music.  More to be announced! \n\n3rd in the Burg in SoMa Harrisburg\nJoin us for an unforgettable night of art\, culture\, and fun in Harrisburg! On the third Friday of every month\, 3rd in the Burg celebrates Harrisburg’s vibrant arts scene. Dozens of venues — from downtown to Midtown — come alive with music\, theater\, exhibits\, and more\, making it the perfect opportunity to explore all that SoMa Harrisburg has to offer. \nIn addition to the SoMa Pop-Up bar\, visit our South of Market neighbors\, including Boneshire Brew Works\, Found Collab (featuring SOUND @ FOUND!)\, Tamara Boutique\, and El Sol Mexican Restaurant. \n\nAbout the SoMa Pop-Up Bar\nSoMa Pop-Up Bar is located at 31 S. 3rd St. in downtown Harrisburg (the site of the former Bricco restaurant\, corner of 3rd & Chestnut Sts.). \nWe host fun pop-up events every month for 3rd in the Burg (Fridays) and preceding Thursday evenings. \nEvents are open to the public and free to attend. Simply pay as you go. \nBring some friends\, and join us in SoMa!
URL:https://www.somaharrisburg.com/event/spooky-season-soma-pop-up-3rd-in-the-burg/
LOCATION:SoMa\, South 3rd Street\, Harrisburg\, PA\, 17110\, United States
CATEGORIES:SoMa
ATTACH;FMTTYPE=image/png:https://www.somaharrisburg.com/wp-content/uploads/2024/11/December-3rd-in-the-burg-d1GS8c.tmp_.png
END:VEVENT
BEGIN:VEVENT
DTSTART;TZID=America/New_York:20241026T190000
DTEND;TZID=America/New_York:20241026T220000
DTSTAMP:20260424T104432
CREATED:20240912T183445Z
LAST-MODIFIED:20241026T144112Z
UID:10000050-1729969200-1729980000@www.somaharrisburg.com
SUMMARY:Berry Bash | A “Fun”draiser at Strawberry Square
DESCRIPTION:Mark your calendars to join us for the inaugural Berry Bash\, a “fun”draiser for Harrisburg River Rescue & Emergency Services! \nSaturday\, October 26\, 2024\n7-10 p.m.\nStrawberry Square in Downtown Harrisburg \nWe’re on a mission to bring you a fundraiser focusing on FUN! The theme of the Berry Bash is “dress up or dress up” (costume or cocktail!). We can’t wait to see what you wear! \nEnjoy heavy hors d’oeuvres\, photo opps\, and other yet-to-be-announced fun (maybe a costume contest?). Plus\, dance the night away with the full Funktion band live on the Clock Box Stage! \nMore details to come! Add to your calendar now\, and see you on Oct. 26 for the inaugural Berry Bash!!  \n\nAbout our Beneficiary: Harrisburg River Rescue & Emergency Services\nHarrisburg River Rescue is a 501(c)(3) nonprofit\, volunteer organization that provides community-based\, high-quality\, cost-effective water rescue and emergency services for the residents of the south-central Pennsylvania region. Learn more.
URL:https://www.somaharrisburg.com/event/berry-bash-a-fundraiser-at-strawberry-square/
LOCATION:Strawberry Square\, 320 Market Street\, Harrisburg\, PA\, 17101\, United States
CATEGORIES:SoMa
ATTACH;FMTTYPE=image/png:https://www.somaharrisburg.com/wp-content/uploads/2024/09/1-2048x1152-1-KT1w4e.tmp_.png
END:VEVENT
END:VCALENDAR