BEGIN:VCALENDAR
VERSION:2.0
PRODID:-//SoMa Harrisburg - ECPv6.15.17.1//NONSGML v1.0//EN
CALSCALE:GREGORIAN
METHOD:PUBLISH
X-ORIGINAL-URL:https://www.somaharrisburg.com
X-WR-CALDESC:Events for SoMa Harrisburg
REFRESH-INTERVAL;VALUE=DURATION:PT1H
X-Robots-Tag:noindex
X-PUBLISHED-TTL:PT1H
BEGIN:VTIMEZONE
TZID:America/New_York
BEGIN:DAYLIGHT
TZOFFSETFROM:-0500
TZOFFSETTO:-0400
TZNAME:EDT
DTSTART:20230312T070000
END:DAYLIGHT
BEGIN:STANDARD
TZOFFSETFROM:-0400
TZOFFSETTO:-0500
TZNAME:EST
DTSTART:20231105T060000
END:STANDARD
BEGIN:DAYLIGHT
TZOFFSETFROM:-0500
TZOFFSETTO:-0400
TZNAME:EDT
DTSTART:20240310T070000
END:DAYLIGHT
BEGIN:STANDARD
TZOFFSETFROM:-0400
TZOFFSETTO:-0500
TZNAME:EST
DTSTART:20241103T060000
END:STANDARD
BEGIN:DAYLIGHT
TZOFFSETFROM:-0500
TZOFFSETTO:-0400
TZNAME:EDT
DTSTART:20250309T070000
END:DAYLIGHT
BEGIN:STANDARD
TZOFFSETFROM:-0400
TZOFFSETTO:-0500
TZNAME:EST
DTSTART:20251102T060000
END:STANDARD
END:VTIMEZONE
BEGIN:VEVENT
DTSTART;TZID=America/New_York:20240920T170000
DTEND;TZID=America/New_York:20240920T210000
DTSTAMP:20260424T121757
CREATED:20240723T025235Z
LAST-MODIFIED:20240920T212621Z
UID:10000047-1726851600-1726866000@www.somaharrisburg.com
SUMMARY:September SoMa Pop-Up | 3rd in the Burg
DESCRIPTION:Join us for 3rd in the Burg in SoMa Harrisburg!\nStop into the SoMa Pop-Up bar — now located at 31 S Third St. Harrisburg (former Bricco restaurant). \nFeaturing Englewood Brewing and food from Nano Burger — plus live music by Nick Staver. \n\n3rd in the Burg in SoMa Harrisburg\nJoin us for an unforgettable night of art\, culture\, and fun in Harrisburg! On the third Friday of every month\, 3rd in the Burg celebrates Harrisburg’s vibrant arts scene. Dozens of venues — from downtown to Midtown — come alive with music\, theater\, exhibits\, and more\, making it the perfect opportunity to explore all that SoMa Harrisburg has to offer. \nIn addition to the SoMa Pop-Up bar\, visit our South of Market neighbors\, including Boneshire Brew Works\, Found Collab (featuring SOUND @ FOUND!)\, Tamara Boutique\, and El Sol Mexican Restaurant. \n\nAbout the SoMa Pop-Up Bar\nSoMa Pop-Up Bar is located at 31 S. 3rd St. in downtown Harrisburg (the site of the former Bricco restaurant\, corner of 3rd & Chestnut Sts.). \nWe host fun pop-up events every month for 3rd in the Burg (Fridays) and preceding Thursday evenings. \nEvents are open to the public and free to attend. Simply pay as you go. \nBring some friends\, and join us in SoMa!
URL:https://www.somaharrisburg.com/event/september-soma-pop-up-3rd-in-the-burg/
LOCATION:SoMa\, South 3rd Street\, Harrisburg\, PA\, 17110\, United States
CATEGORIES:SoMa
ATTACH;FMTTYPE=image/png:https://www.somaharrisburg.com/wp-content/uploads/2024/07/September-3rd-in-the-burg-ngmrZr.tmp_.png
END:VEVENT
BEGIN:VEVENT
DTSTART;TZID=America/New_York:20240926T180000
DTEND;TZID=America/New_York:20240926T220000
DTSTAMP:20260424T121757
CREATED:20240723T025238Z
LAST-MODIFIED:20240926T213726Z
UID:10000048-1727373600-1727388000@www.somaharrisburg.com
SUMMARY:SoMa Block Party September 2024
DESCRIPTION:Join us in the street to party under the lights at the September SoMa Block Party!\n6-10 PM • Thursday\, September 26!  \nFor September\, we welcome: \n\nThe Rolling Grill\nFood Adventures\nWich Way Sandwiches\nGood Life Ice Cream\nBoneshire Taps at SoMa\nArmstrong Valley Winery\nMark & Val Winery\nHemauer Brewing\nZeroday Brewing\nBig Bottom Brewery\nReign + Taij’s Lemonade\nMetropolis Aeriel Arts Studio\n\nLIVE MUSIC BY LIL BROTHER BAND! \nDon’t miss your selfie with Hit the Angles 360 Photobooth! \nPlus\, visit our SoMa friends Found Collab\, Tamara’s Boutique\, El Sol Mexican Restaurant\, JoJo’s Barber Shop. \nBlock parties take place on S. Third St. between Market & Chestnuts Streets. Street parking is available around the area and free after 5 p.m. \nEvents are FREE to attend and open to the public! Pay-as-you-go.
URL:https://www.somaharrisburg.com/event/soma-block-party-september-2024/
LOCATION:SoMa\, South 3rd Street\, Harrisburg\, PA\, 17110\, United States
CATEGORIES:SoMa
ATTACH;FMTTYPE=image/png:https://www.somaharrisburg.com/wp-content/uploads/2024/07/Sept.-26-2024-Crpyme.tmp_.png
END:VEVENT
END:VCALENDAR