BEGIN:VCALENDAR
VERSION:2.0
PRODID:-//SoMa Harrisburg - ECPv6.15.17.1//NONSGML v1.0//EN
CALSCALE:GREGORIAN
METHOD:PUBLISH
X-WR-CALNAME:SoMa Harrisburg
X-ORIGINAL-URL:https://www.somaharrisburg.com
X-WR-CALDESC:Events for SoMa Harrisburg
REFRESH-INTERVAL;VALUE=DURATION:PT1H
X-Robots-Tag:noindex
X-PUBLISHED-TTL:PT1H
BEGIN:VTIMEZONE
TZID:America/New_York
BEGIN:DAYLIGHT
TZOFFSETFROM:-0500
TZOFFSETTO:-0400
TZNAME:EDT
DTSTART:20230312T070000
END:DAYLIGHT
BEGIN:STANDARD
TZOFFSETFROM:-0400
TZOFFSETTO:-0500
TZNAME:EST
DTSTART:20231105T060000
END:STANDARD
BEGIN:DAYLIGHT
TZOFFSETFROM:-0500
TZOFFSETTO:-0400
TZNAME:EDT
DTSTART:20240310T070000
END:DAYLIGHT
BEGIN:STANDARD
TZOFFSETFROM:-0400
TZOFFSETTO:-0500
TZNAME:EST
DTSTART:20241103T060000
END:STANDARD
BEGIN:DAYLIGHT
TZOFFSETFROM:-0500
TZOFFSETTO:-0400
TZNAME:EDT
DTSTART:20250309T070000
END:DAYLIGHT
BEGIN:STANDARD
TZOFFSETFROM:-0400
TZOFFSETTO:-0500
TZNAME:EST
DTSTART:20251102T060000
END:STANDARD
END:VTIMEZONE
BEGIN:VEVENT
DTSTART;TZID=America/New_York:20240601T130000
DTEND;TZID=America/New_York:20240601T170000
DTSTAMP:20260424T185939
CREATED:20240430T144212Z
LAST-MODIFIED:20240601T160529Z
UID:10000038-1717246800-1717261200@www.somaharrisburg.com
SUMMARY:SoMa FEST!
DESCRIPTION:Join us for SoMa Fest — a Beer\, Wine\, & Spirits Festival!\n1-5 PM • Saturday\, June 1st!  \nThink of it a little like our SoMa Block Parties — only BIGGER (and on a Saturday afternoon)!\nSoMa Fest — a beer\, wine\, and spirits festival in the SoMa neighborhood of Harrisburg — returns on Saturday\, June 1 — and it’s FREE! \nLike a mega-SoMa Block Party\, this Saturday afternoon event will feature Pennsylvania beer\, wine\, and spirits vendors — Plus great food trucks and live music. \nWe’ll have food trucks on-site\, plus live music from local pop group Oversoon and The Voice’s Devix! Enjoy yard games\, or relax inside the Capital Vending Pinball Lounge!
URL:https://www.somaharrisburg.com/event/soma-fest/
LOCATION:SoMa\, South 3rd Street\, Harrisburg\, PA\, 17110\, United States
CATEGORIES:SoMa
ATTACH;FMTTYPE=image/png:https://www.somaharrisburg.com/wp-content/uploads/2024/04/1-1536x864-1-rnnR76.tmp_.png
END:VEVENT
BEGIN:VEVENT
DTSTART;TZID=America/New_York:20240620T170000
DTEND;TZID=America/New_York:20240620T200000
DTSTAMP:20260424T185939
CREATED:20240430T144213Z
LAST-MODIFIED:20240620T180623Z
UID:10000039-1718902800-1718913600@www.somaharrisburg.com
SUMMARY:SoMa Pop-Up | Juneteenth
DESCRIPTION:Join us at the SoMa Pop-Up Bar on Thursday\, June 20!\nStop into the SoMa Pop-Up bar — now located at 31 S Third St. Harrisburg (former Bricco restaurant). \nFeatured vendors include Mark & Val Wines and Mel’s Rock’n BBQ. \nIn addition to the SoMa Pop-Up bar\, visit our South of Market neighbors\, including Boneshire Brew Works\, Found Collab (featuring SOUND @ FOUND!)\, Tamara Boutique\, and El Sol Mexican Restaurant. \n\nAbout the SoMa Pop-Up Bar\nSoMa Pop-Up Bar is located at 31 S. 3rd St. in downtown Harrisburg (the site of the former Bricco restaurant\, corner of 3rd & Chestnut Sts.). \nWe host fun pop-up events every month for 3rd in the Burg (Fridays) and preceding Thursday evenings. \nEvents are open to the public and free to attend. Simply pay as you go. \nBring some friends\, and join us in SoMa!
URL:https://www.somaharrisburg.com/event/soma-pop-up-juneteenth/
LOCATION:SoMa\, South 3rd Street\, Harrisburg\, PA\, 17110\, United States
CATEGORIES:SoMa
ATTACH;FMTTYPE=image/png:https://www.somaharrisburg.com/wp-content/uploads/2024/04/June-SoMa-Pop-Up-1536x727-1-FmRyvE.tmp_.png
END:VEVENT
BEGIN:VEVENT
DTSTART;TZID=America/New_York:20240621T170000
DTEND;TZID=America/New_York:20240621T210000
DTSTAMP:20260424T185939
CREATED:20240430T144215Z
LAST-MODIFIED:20240621T181956Z
UID:10000040-1718989200-1719003600@www.somaharrisburg.com
SUMMARY:SoMa Block Party | Juneteenth with YPOC and HYP | 3rd in the Burg
DESCRIPTION:Join us under the lights for this special Juneteenth SoMa Block Party with YPOC and HYP during June’s 3rd in the Burg!\n5-9 PM • Friday\, June 21!  \nFor this collaborative Block Party\, we’re thrilled to welcome: \n\nMark & Val Wines (inside Bricco)\nMel’s Rock’n BBQ\nLa Maison Tacos\nFBC Food Truck\nHalfway Tree Jamaican\nZeroday Brewing Co.\nEnglewood Brewing\nBoneshire Brew Works\nReign & Taij’s Lemonade\nand many more to come!\n\nLIVE MUSIC BY DJ LeRon and D.C.’s Secret Society Band! \nDon’t miss your selfie with Hit the Angles 360 Photobooth! \nPlus\, visit our SoMa friends Found Collab\, Tamara’s Boutique\, Boneshire Taps at SoMa\, El Sol Mexican Restaurant\, JoJo’s Barber Shop. \nBlock parties take place on S. Third St. between Market & Chestnuts Streets. Street parking is available around the area and free after 5 p.m. \nEvents are FREE to attend and open to the public! Pay-as-you-go.
URL:https://www.somaharrisburg.com/event/soma-block-party-juneteenth-with-ypoc-and-hyp-3rd-in-the-burg/
LOCATION:SoMa\, South 3rd Street\, Harrisburg\, PA\, 17110\, United States
CATEGORIES:SoMa
ATTACH;FMTTYPE=image/png:https://www.somaharrisburg.com/wp-content/uploads/2024/04/soma_1920-1536x864-1-x6DX2z.tmp_.png
END:VEVENT
BEGIN:VEVENT
DTSTART;TZID=America/New_York:20240627T180000
DTEND;TZID=America/New_York:20240627T220000
DTSTAMP:20260424T185939
CREATED:20240430T144216Z
LAST-MODIFIED:20240627T182012Z
UID:10000041-1719511200-1719525600@www.somaharrisburg.com
SUMMARY:SoMa Block Party | Budget Bash! | June 2024
DESCRIPTION:Join us under the lights in SoMa for our “Budget Bash” Block Party in downtown Harrisburg!\n6-10 PM • Thursday\, June 27!  \nFeaturing: \n\nWich Way Sandwiches\n717 Tacos\nMellie Bellies\nSunset Slush of Gettysburg\nJackie’s Snackies\nMidstate Distillery\nShy Bear Brewing\nEnglewood Brewing\nArmstrong Valley Winery\nReign & Taij’s Lemonade\nPalmyra Greenhouse Flower Truck\n\nLIVE MUSIC BY MARK DEROSE & THE DREADNAUGHTS! \nDon’t miss your selfie with Hit the Angles 360 Photobooth! \nPlus\, visit our SoMa friends Found Collab\, Tamara’s Boutique\, Boneshire Taps at SoMa\, El Sol Mexican Restaurant\, JoJo’s Barber Shop. \nBlock parties take place on S. Third St. between Market & Chestnuts Streets. Street parking is available around the area and free after 5 p.m. \nEvents are FREE to attend and open to the public! Pay-as-you-go.
URL:https://www.somaharrisburg.com/event/soma-block-party-budget-bash-june-2024/
LOCATION:SoMa\, South 3rd Street\, Harrisburg\, PA\, 17110\, United States
CATEGORIES:SoMa
ATTACH;FMTTYPE=image/png:https://www.somaharrisburg.com/wp-content/uploads/2024/04/June-27-2024-1536x864-1-PbHnmF.tmp_.png
END:VEVENT
END:VCALENDAR