BEGIN:VCALENDAR
VERSION:2.0
PRODID:-//SoMa Harrisburg - ECPv6.15.17.1//NONSGML v1.0//EN
CALSCALE:GREGORIAN
METHOD:PUBLISH
X-WR-CALNAME:SoMa Harrisburg
X-ORIGINAL-URL:https://www.somaharrisburg.com
X-WR-CALDESC:Events for SoMa Harrisburg
REFRESH-INTERVAL;VALUE=DURATION:PT1H
X-Robots-Tag:noindex
X-PUBLISHED-TTL:PT1H
BEGIN:VTIMEZONE
TZID:America/New_York
BEGIN:DAYLIGHT
TZOFFSETFROM:-0500
TZOFFSETTO:-0400
TZNAME:EDT
DTSTART:20240310T070000
END:DAYLIGHT
BEGIN:STANDARD
TZOFFSETFROM:-0400
TZOFFSETTO:-0500
TZNAME:EST
DTSTART:20241103T060000
END:STANDARD
BEGIN:DAYLIGHT
TZOFFSETFROM:-0500
TZOFFSETTO:-0400
TZNAME:EDT
DTSTART:20250309T070000
END:DAYLIGHT
BEGIN:STANDARD
TZOFFSETFROM:-0400
TZOFFSETTO:-0500
TZNAME:EST
DTSTART:20251102T060000
END:STANDARD
BEGIN:DAYLIGHT
TZOFFSETFROM:-0500
TZOFFSETTO:-0400
TZNAME:EDT
DTSTART:20260308T070000
END:DAYLIGHT
BEGIN:STANDARD
TZOFFSETFROM:-0400
TZOFFSETTO:-0500
TZNAME:EST
DTSTART:20261101T060000
END:STANDARD
END:VTIMEZONE
BEGIN:VEVENT
DTSTART;TZID=America/New_York:20250620T180000
DTEND;TZID=America/New_York:20250620T210000
DTSTAMP:20260425T085626
CREATED:20250322T160930Z
LAST-MODIFIED:20250618T170731Z
UID:10000079-1750442400-1750453200@www.somaharrisburg.com
SUMMARY:Strawberry Square Music Series – Le Ghast
DESCRIPTION:Strawberry Square Music Series welcomes Le Ghast with special guest to be announced on Friday\, June 20. \nLe Ghast\n \n📅 When: 6-9 PM\, Friday\, June 20\n📍 Where: UPMC Clock Box Stage\, Strawberry Square Atrium\n💵 Cost: FREE! \nLe Ghast\nLe Ghast is a trailblazing trio that seamlessly blends moody atmospheres with infectious grooves\, creating a sound that is both hauntingly unique and undeniably captivating. \nWith a signature style that has been dubbed “Prom Rock\,” their music evokes the sensation of being lost in a moment—dancing under a lone disco ball\, swept up in dreamy\, otherworldly vibes. \nFronted by the powerful and evocative vocals of Steph Werner\, the band’s dynamic energy is further elevated by Michael Stipe’s commanding basslines and Jordan Zabady’s innovative live beatboxing and percussion. \nKnown for their genre-defying sound and captivating live shows\, Le Ghast has earned acclaim for their ability to evoke both nostalgia and bold innovation\, crafting a sound that feels both timeless and visionary. \nListen to Le Ghast\n \n\nAbout the Strawberry Square Music Series\nThe all-new Strawberry Square Music Series brings live music and entertainment to Harrisburg’s 3rd in the Burg Fridays! Join us at the UPMC Clock Box Stage in the Atrium of Strawberry Square for a dynamic lineup of performances. \n✨ What to Expect:\n\nLive music from a diverse lineup of talented artists\nPop-up food and beverage vendors right in the Square\nA FREE\, vibrant community event perfect for music lovers of all ages\n\n💫 Become an SSMS VIP!\nPick up a Strawberry Square Music Series Loyalty Card at any SSMS show. Get your card punched at each event you attend and earn exclusive rewards! \n\nAttend 3 SSMS shows → Get a FREE Strawberry Square Music Series sticker\nAttend 6 SSMS shows → Get a FREE SSMS swag bag\nAttend 9 SSMS shows → Receive an invite to an exclusive VIP Happy Hour inside the UPMC Clock Box during December’s concert!\n\nCome for the music\, stay for the vibes—we’ll see you at Strawberry Square!
URL:https://www.somaharrisburg.com/event/strawberry-square-music-series-le-ghast/
LOCATION:Strawberry Square\, 320 Market Street\, Harrisburg\, PA\, 17101\, United States
CATEGORIES:SoMa
ATTACH;FMTTYPE=image/png:https://www.somaharrisburg.com/wp-content/uploads/2025/03/Le-Ghast-with-special-guest-TBA-WucjVn.tmp_.png
END:VEVENT
END:VCALENDAR