BEGIN:VCALENDAR
VERSION:2.0
PRODID:-//SoMa Harrisburg - ECPv6.15.17.1//NONSGML v1.0//EN
CALSCALE:GREGORIAN
METHOD:PUBLISH
X-WR-CALNAME:SoMa Harrisburg
X-ORIGINAL-URL:https://www.somaharrisburg.com
X-WR-CALDESC:Events for SoMa Harrisburg
REFRESH-INTERVAL;VALUE=DURATION:PT1H
X-Robots-Tag:noindex
X-PUBLISHED-TTL:PT1H
BEGIN:VTIMEZONE
TZID:America/New_York
BEGIN:DAYLIGHT
TZOFFSETFROM:-0500
TZOFFSETTO:-0400
TZNAME:EDT
DTSTART:20240310T070000
END:DAYLIGHT
BEGIN:STANDARD
TZOFFSETFROM:-0400
TZOFFSETTO:-0500
TZNAME:EST
DTSTART:20241103T060000
END:STANDARD
BEGIN:DAYLIGHT
TZOFFSETFROM:-0500
TZOFFSETTO:-0400
TZNAME:EDT
DTSTART:20250309T070000
END:DAYLIGHT
BEGIN:STANDARD
TZOFFSETFROM:-0400
TZOFFSETTO:-0500
TZNAME:EST
DTSTART:20251102T060000
END:STANDARD
BEGIN:DAYLIGHT
TZOFFSETFROM:-0500
TZOFFSETTO:-0400
TZNAME:EDT
DTSTART:20260308T070000
END:DAYLIGHT
BEGIN:STANDARD
TZOFFSETFROM:-0400
TZOFFSETTO:-0500
TZNAME:EST
DTSTART:20261101T060000
END:STANDARD
END:VTIMEZONE
BEGIN:VEVENT
DTSTART;TZID=America/New_York:20250406T130000
DTEND;TZID=America/New_York:20250406T170000
DTSTAMP:20260425T115920
CREATED:20250207T140937Z
LAST-MODIFIED:20250406T162230Z
UID:10000072-1743944400-1743958800@www.somaharrisburg.com
SUMMARY:Plants + Pints 2025
DESCRIPTION:Plants + Pints: A Food Event that Feeds People! 🌱🍻\npresented by Members 1st Federal Credit Union \nDate: Sunday\, April 6\, 2025\nTime: 1:00 PM – 5:00 PM\nLocation: Strawberry Square\, Harrisburg\, PA \nJoin us at Plants + Pints for a unique culinary celebration where every bite and sip directly supports our community! On Sunday\, April 6\, at Strawberry Square\, this food and drink festival is packed with locally-made\, plant-forward dishes\, craft brews\, and specialty vendors. Proceeds from Plants + Pints go to Downtown Daily Bread\, a Harrisburg-based soup kitchen and shelter\, to provide meals and services to those in need. Last year’s event raised $5\,000 for Downtown Daily Bread! \nJoin us this year for the food event that feeds people! \nWhat You Can Expect:\n\nPlant-based food and drink: Savor innovative flavors crafted by top local chefs and producers.\nVendor Market: Explore plant-themed items\, artisan goods\, farmers markets\, and more from local vendors.\nCommunity Impact: Each ticket supports Downtown Daily Bread’s mission to feed and shelter the Harrisburg community.\n\nTickets: Grab yours here. \nVendors\nWe’re pleased to showcase the following vendors at this year’s Plants + Pints. Check back for updates! \n\nKoki Latin Cuisine LLC\nVe’Lightfully Vegan LLC\nBeshore Hill Farm\nZanabella Plant Based Skincare\nVelamen Exotic Plants\nHolla Spirits\nHarrisburg University Aquaponics\nPlant Family\nRevolutionary Hot Sauce\nSeymour’s plant boutique and apothecary\nReiki by Rickie ~ ReikiSpace & Learning Place\nCelestialWest\nTucker&Co. Granola & Bakery\nMoonrise Candle Co\nHempzer Seltzer\nPlants in the Cloud\nISKCON of Harrisburg\nPlaya Bowls Carlisle/Camp Hill & Harrisburg\nVe’Lightfully Vegan LLC\nGaffney Foods\nSevansa Handmade\, LLC d/b/a Sevansa\n\nInterested in showcasing your brand? Vendor and sponsor applications are open now – reserve your spot today and be part of this event for a great cause! Contact Sara to inquire. \nOn the UPMC Clockbox Stage\nStay tuned for featured entertainment\, including His & Hers Music\, chef demonstrations\, activities\, and more during Plants + Pints.
URL:https://www.somaharrisburg.com/event/plants-pints-2025/
LOCATION:Strawberry Square\, 320 Market Street\, Harrisburg\, PA\, 17101\, United States
CATEGORIES:SoMa
ATTACH;FMTTYPE=image/png:https://www.somaharrisburg.com/wp-content/uploads/2025/02/PlantsPints2025-HONuxU.tmp_.png
END:VEVENT
END:VCALENDAR