BEGIN:VCALENDAR
VERSION:2.0
PRODID:-//SoMa Harrisburg - ECPv6.15.17.1//NONSGML v1.0//EN
CALSCALE:GREGORIAN
METHOD:PUBLISH
X-WR-CALNAME:SoMa Harrisburg
X-ORIGINAL-URL:https://www.somaharrisburg.com
X-WR-CALDESC:Events for SoMa Harrisburg
REFRESH-INTERVAL;VALUE=DURATION:PT1H
X-Robots-Tag:noindex
X-PUBLISHED-TTL:PT1H
BEGIN:VTIMEZONE
TZID:America/New_York
BEGIN:DAYLIGHT
TZOFFSETFROM:-0500
TZOFFSETTO:-0400
TZNAME:EDT
DTSTART:20240310T070000
END:DAYLIGHT
BEGIN:STANDARD
TZOFFSETFROM:-0400
TZOFFSETTO:-0500
TZNAME:EST
DTSTART:20241103T060000
END:STANDARD
BEGIN:DAYLIGHT
TZOFFSETFROM:-0500
TZOFFSETTO:-0400
TZNAME:EDT
DTSTART:20250309T070000
END:DAYLIGHT
BEGIN:STANDARD
TZOFFSETFROM:-0400
TZOFFSETTO:-0500
TZNAME:EST
DTSTART:20251102T060000
END:STANDARD
BEGIN:DAYLIGHT
TZOFFSETFROM:-0500
TZOFFSETTO:-0400
TZNAME:EDT
DTSTART:20260308T070000
END:DAYLIGHT
BEGIN:STANDARD
TZOFFSETFROM:-0400
TZOFFSETTO:-0500
TZNAME:EST
DTSTART:20261101T060000
END:STANDARD
END:VTIMEZONE
BEGIN:VEVENT
DTSTART;TZID=America/New_York:20250405T100000
DTEND;TZID=America/New_York:20250405T160000
DTSTAMP:20260425T115918
CREATED:20250305T152221Z
LAST-MODIFIED:20250405T162133Z
UID:10000078-1743847200-1743868800@www.somaharrisburg.com
SUMMARY:The Harrisburg Flea
DESCRIPTION:The HBG Flea is a monthly\, urban market that features handmade\, artisan\, and vintage goods. We strive to support small businesses\, and celebrate community\, collaboration\, and creativity. Join us and shop among the passionate creatives of the Central Pennsylvania area. \n​ \nThis event is totally free to the public.
URL:https://www.somaharrisburg.com/event/the-harrisburg-flea-3/
LOCATION:Strawberry Square\, 320 Market Street\, Harrisburg\, PA\, 17101\, United States
CATEGORIES:SoMa
ATTACH;FMTTYPE=image/jpeg:https://www.somaharrisburg.com/wp-content/uploads/2025/02/StrawberrySquare-FleaEvent-cJ9lvA.tmp_.jpg
END:VEVENT
END:VCALENDAR